BEGIN:VCALENDAR
PRODID:-//HKUST Drupal Platform//EN
VERSION:2.0
BEGIN:VTIMEZONE
TZID:Asia/Hong_Kong
BEGIN:STANDARD
DTSTART:20071104T020000
TZOFFSETFROM:+0700
TZOFFSETTO:+0800
TZNAME:HKT
END:STANDARD
END:VTIMEZONE
BEGIN:VEVENT
DTSTAMP;TZID=Asia/Hong_Kong:20260423T061614
DTSTART;TZID=Asia/Hong_Kong:20221201T030000
DTEND;TZID=Asia/Hong_Kong:20221201T163000
SUMMARY:Expressing Time: Cold War Japan and the Aesthetics of Cybernetics
UID:761
END:VEVENT
END:VCALENDAR