BEGIN:VCALENDAR
PRODID:-//HKUST Drupal Platform//EN
VERSION:2.0
BEGIN:VTIMEZONE
TZID:Asia/Hong_Kong
BEGIN:STANDARD
DTSTART:20071104T020000
TZOFFSETFROM:+0700
TZOFFSETTO:+0800
TZNAME:HKT
END:STANDARD
END:VTIMEZONE
BEGIN:VEVENT
DTSTAMP;TZID=Asia/Hong_Kong:20260423T080259
DTSTART;TZID=Asia/Hong_Kong:20221212T110000
DTEND;TZID=Asia/Hong_Kong:20221212T123000
SUMMARY: HUMA Academic Talk - The Courtesan’s “Role Portrait”: Brothel Performances and the Qiu Ying Models in Late Ming Suzhou
UID:763
END:VEVENT
END:VCALENDAR