BEGIN:VCALENDAR
PRODID:-//HKUST Drupal Platform//EN
VERSION:2.0
BEGIN:VTIMEZONE
TZID:Asia/Hong_Kong
BEGIN:STANDARD
DTSTART:20071104T020000
TZOFFSETFROM:+0700
TZOFFSETTO:+0800
TZNAME:HKT
END:STANDARD
END:VTIMEZONE
BEGIN:VEVENT
DTSTAMP;TZID=Asia/Hong_Kong:20260423T061914
DTSTART;TZID=Asia/Hong_Kong:20221205T030000
DTEND;TZID=Asia/Hong_Kong:19700101T080000
SUMMARY: HUMA Academic Talk - New Frontiers in History of Science in China: Global History, Digital Humanities, and Modern Chinese Science
UID:764
END:VEVENT
END:VCALENDAR