BEGIN:VCALENDAR
PRODID:-//HKUST Drupal Platform//EN
VERSION:2.0
BEGIN:VTIMEZONE
TZID:Asia/Hong_Kong
BEGIN:STANDARD
DTSTART:20071104T020000
TZOFFSETFROM:+0700
TZOFFSETTO:+0800
TZNAME:HKT
END:STANDARD
END:VTIMEZONE
BEGIN:VEVENT
DTSTAMP;TZID=Asia/Hong_Kong:20260423T061609
DTSTART;TZID=Asia/Hong_Kong:20221207T110000
DTEND;TZID=Asia/Hong_Kong:19700101T080000
SUMMARY: HUMA Academic Talk - The Practice of Writing as Weaving in the Huainanzi: A Western Han Perspective on Intertextuality
UID:767
END:VEVENT
END:VCALENDAR