BEGIN:VCALENDAR
PRODID:-//HKUST Drupal Platform//EN
VERSION:2.0
BEGIN:VTIMEZONE
TZID:Asia/Hong_Kong
BEGIN:STANDARD
DTSTART:20071104T020000
TZOFFSETFROM:+0700
TZOFFSETTO:+0800
TZNAME:HKT
END:STANDARD
END:VTIMEZONE
BEGIN:VEVENT
DTSTAMP;TZID=Asia/Hong_Kong:20260423T080259
DTSTART;TZID=Asia/Hong_Kong:20230227T173000
DTEND;TZID=Asia/Hong_Kong:20230227T193000
LOCATION:Room 3360 (Lift 13-15, Academic Building)
SUMMARY:Candle Workshop
UID:781
END:VEVENT
END:VCALENDAR