BEGIN:VCALENDAR
PRODID:-//HKUST Drupal Platform//EN
VERSION:2.0
BEGIN:VTIMEZONE
TZID:Asia/Hong_Kong
BEGIN:STANDARD
DTSTART:20071104T020000
TZOFFSETFROM:+0700
TZOFFSETTO:+0800
TZNAME:HKT
END:STANDARD
END:VTIMEZONE
BEGIN:VEVENT
DTSTAMP;TZID=Asia/Hong_Kong:20260423T061615
DTSTART;TZID=Asia/Hong_Kong:20230214T000000
DTEND;TZID=Asia/Hong_Kong:20230425T235900
LOCATION:李兆基校園盧家驄薈萃樓 佳兆業集團演講廳（高研院演講廳）/ Zoom
SUMMARY:中國文學創作研究專題：文學的移交—中國當代重力青年作家系列講座 (一)
UID:783
END:VEVENT
END:VCALENDAR