BEGIN:VCALENDAR
PRODID:-//HKUST Drupal Platform//EN
VERSION:2.0
BEGIN:VTIMEZONE
TZID:Asia/Hong_Kong
BEGIN:STANDARD
DTSTART:20071104T020000
TZOFFSETFROM:+0700
TZOFFSETTO:+0800
TZNAME:HKT
END:STANDARD
END:VTIMEZONE
BEGIN:VEVENT
DTSTAMP;TZID=Asia/Hong_Kong:20260423T061609
DTSTART;TZID=Asia/Hong_Kong:20230222T020000
DTEND;TZID=Asia/Hong_Kong:20230222T160000
LOCATION:香港知專設計學院，香港新界調景嶺景嶺路3號
SUMMARY:導賞活動：傳承「⼀種獨特的美 」長衫展覽
UID:785
END:VEVENT
END:VCALENDAR