BEGIN:VCALENDAR
PRODID:-//HKUST Drupal Platform//EN
VERSION:2.0
BEGIN:VTIMEZONE
TZID:Asia/Hong_Kong
BEGIN:STANDARD
DTSTART:20071104T020000
TZOFFSETFROM:+0700
TZOFFSETTO:+0800
TZNAME:HKT
END:STANDARD
END:VTIMEZONE
BEGIN:VEVENT
DTSTAMP;TZID=Asia/Hong_Kong:20260423T061614
DTSTART;TZID=Asia/Hong_Kong:20230221T030000
DTEND;TZID=Asia/Hong_Kong:20230221T163000
LOCATION:Zoom Meeting
SUMMARY:中國文學創作研究專題 - 文學的移交 | 中國新生代小說家系列講座—我的寫作：生活、技巧、藝術
UID:786
END:VEVENT
END:VCALENDAR