BEGIN:VCALENDAR
PRODID:-//HKUST Drupal Platform//EN
VERSION:2.0
BEGIN:VTIMEZONE
TZID:Asia/Hong_Kong
BEGIN:STANDARD
DTSTART:20071104T020000
TZOFFSETFROM:+0700
TZOFFSETTO:+0800
TZNAME:HKT
END:STANDARD
END:VTIMEZONE
BEGIN:VEVENT
DTSTAMP;TZID=Asia/Hong_Kong:20260423T061615
DTSTART;TZID=Asia/Hong_Kong:20230228T030000
DTEND;TZID=Asia/Hong_Kong:19700101T080000
LOCATION:Zoom Meeting
SUMMARY:中國文學創作研究專題 - 文學的移交 | 中國新生代小說家系列講座：來，讓我們談談莊稼
UID:787
END:VEVENT
END:VCALENDAR