BEGIN:VCALENDAR
PRODID:-//HKUST Drupal Platform//EN
VERSION:2.0
BEGIN:VTIMEZONE
TZID:Asia/Hong_Kong
BEGIN:STANDARD
DTSTART:20071104T020000
TZOFFSETFROM:+0700
TZOFFSETTO:+0800
TZNAME:HKT
END:STANDARD
END:VTIMEZONE
BEGIN:VEVENT
DTSTAMP;TZID=Asia/Hong_Kong:20260423T061614
DTSTART;TZID=Asia/Hong_Kong:20230222T043000
DTEND;TZID=Asia/Hong_Kong:20230222T180000
LOCATION:Room 5583 (Lift 28-30)
SUMMARY:Chinese Wars in the American Archives: Research Strategies and Resources for Historical Inquiry from the Sino-Japanese War to the Cold War
UID:788
END:VEVENT
END:VCALENDAR