BEGIN:VCALENDAR
PRODID:-//HKUST Drupal Platform//EN
VERSION:2.0
BEGIN:VTIMEZONE
TZID:Asia/Hong_Kong
BEGIN:STANDARD
DTSTART:20071104T020000
TZOFFSETFROM:+0700
TZOFFSETTO:+0800
TZNAME:HKT
END:STANDARD
END:VTIMEZONE
BEGIN:VEVENT
DTSTAMP;TZID=Asia/Hong_Kong:20260423T061614
DTSTART;TZID=Asia/Hong_Kong:20230223T193000
DTEND;TZID=Asia/Hong_Kong:20230223T210000
LOCATION:LTL, Cheng Yu Tung Building
SUMMARY:Cosmopolis Festival - Masterclass with Violinist Patrick Yim
UID:790
END:VEVENT
END:VCALENDAR