BEGIN:VCALENDAR
PRODID:-//HKUST Drupal Platform//EN
VERSION:2.0
BEGIN:VTIMEZONE
TZID:Asia/Hong_Kong
BEGIN:STANDARD
DTSTART:20071104T020000
TZOFFSETFROM:+0700
TZOFFSETTO:+0800
TZNAME:HKT
END:STANDARD
END:VTIMEZONE
BEGIN:VEVENT
DTSTAMP;TZID=Asia/Hong_Kong:20260421T004237
DTSTART;TZID=Asia/Hong_Kong:20230310T033000
DTEND;TZID=Asia/Hong_Kong:20230310T173000
LOCATION:香港科技大學曾肇添展藝廳
SUMMARY:國家級非物質文化遺產 -坑口區麒麟學堂 (科大校園 曾肇添展藝廳) 客家舞麒麟訓練班
UID:796
END:VEVENT
BEGIN:VEVENT
DTSTAMP;TZID=Asia/Hong_Kong:20260421T004237
DTSTART;TZID=Asia/Hong_Kong:20230311T033000
DTEND;TZID=Asia/Hong_Kong:20230311T173000
LOCATION:香港科技大學曾肇添展藝廳
SUMMARY:國家級非物質文化遺產 -坑口區麒麟學堂 (科大校園 曾肇添展藝廳) 客家舞麒麟訓練班
UID:796
END:VEVENT
BEGIN:VEVENT
DTSTAMP;TZID=Asia/Hong_Kong:20260421T004237
DTSTART;TZID=Asia/Hong_Kong:20230312T033000
DTEND;TZID=Asia/Hong_Kong:20230312T173000
LOCATION:香港科技大學曾肇添展藝廳
SUMMARY:國家級非物質文化遺產 -坑口區麒麟學堂 (科大校園 曾肇添展藝廳) 客家舞麒麟訓練班
UID:796
END:VEVENT
BEGIN:VEVENT
DTSTAMP;TZID=Asia/Hong_Kong:20260421T004237
DTSTART;TZID=Asia/Hong_Kong:20230313T033000
DTEND;TZID=Asia/Hong_Kong:20230313T173000
LOCATION:香港科技大學曾肇添展藝廳
SUMMARY:國家級非物質文化遺產 -坑口區麒麟學堂 (科大校園 曾肇添展藝廳) 客家舞麒麟訓練班
UID:796
END:VEVENT
BEGIN:VEVENT
DTSTAMP;TZID=Asia/Hong_Kong:20260421T004237
DTSTART;TZID=Asia/Hong_Kong:20230314T033000
DTEND;TZID=Asia/Hong_Kong:20230314T173000
LOCATION:香港科技大學曾肇添展藝廳
SUMMARY:國家級非物質文化遺產 -坑口區麒麟學堂 (科大校園 曾肇添展藝廳) 客家舞麒麟訓練班
UID:796
END:VEVENT
BEGIN:VEVENT
DTSTAMP;TZID=Asia/Hong_Kong:20260421T004237
DTSTART;TZID=Asia/Hong_Kong:20230315T033000
DTEND;TZID=Asia/Hong_Kong:20230315T173000
LOCATION:香港科技大學曾肇添展藝廳
SUMMARY:國家級非物質文化遺產 -坑口區麒麟學堂 (科大校園 曾肇添展藝廳) 客家舞麒麟訓練班
UID:796
END:VEVENT
BEGIN:VEVENT
DTSTAMP;TZID=Asia/Hong_Kong:20260421T004237
DTSTART;TZID=Asia/Hong_Kong:20230316T033000
DTEND;TZID=Asia/Hong_Kong:20230316T173000
LOCATION:香港科技大學曾肇添展藝廳
SUMMARY:國家級非物質文化遺產 -坑口區麒麟學堂 (科大校園 曾肇添展藝廳) 客家舞麒麟訓練班
UID:796
END:VEVENT
BEGIN:VEVENT
DTSTAMP;TZID=Asia/Hong_Kong:20260421T004237
DTSTART;TZID=Asia/Hong_Kong:20230317T033000
DTEND;TZID=Asia/Hong_Kong:20230317T173000
LOCATION:香港科技大學曾肇添展藝廳
SUMMARY:國家級非物質文化遺產 -坑口區麒麟學堂 (科大校園 曾肇添展藝廳) 客家舞麒麟訓練班
UID:796
END:VEVENT
BEGIN:VEVENT
DTSTAMP;TZID=Asia/Hong_Kong:20260421T004237
DTSTART;TZID=Asia/Hong_Kong:20230318T033000
DTEND;TZID=Asia/Hong_Kong:20230318T173000
LOCATION:香港科技大學曾肇添展藝廳
SUMMARY:國家級非物質文化遺產 -坑口區麒麟學堂 (科大校園 曾肇添展藝廳) 客家舞麒麟訓練班
UID:796
END:VEVENT
BEGIN:VEVENT
DTSTAMP;TZID=Asia/Hong_Kong:20260421T004237
DTSTART;TZID=Asia/Hong_Kong:20230319T033000
DTEND;TZID=Asia/Hong_Kong:20230319T173000
LOCATION:香港科技大學曾肇添展藝廳
SUMMARY:國家級非物質文化遺產 -坑口區麒麟學堂 (科大校園 曾肇添展藝廳) 客家舞麒麟訓練班
UID:796
END:VEVENT
BEGIN:VEVENT
DTSTAMP;TZID=Asia/Hong_Kong:20260421T004237
DTSTART;TZID=Asia/Hong_Kong:20230320T033000
DTEND;TZID=Asia/Hong_Kong:20230320T173000
LOCATION:香港科技大學曾肇添展藝廳
SUMMARY:國家級非物質文化遺產 -坑口區麒麟學堂 (科大校園 曾肇添展藝廳) 客家舞麒麟訓練班
UID:796
END:VEVENT
BEGIN:VEVENT
DTSTAMP;TZID=Asia/Hong_Kong:20260421T004237
DTSTART;TZID=Asia/Hong_Kong:20230321T033000
DTEND;TZID=Asia/Hong_Kong:20230321T173000
LOCATION:香港科技大學曾肇添展藝廳
SUMMARY:國家級非物質文化遺產 -坑口區麒麟學堂 (科大校園 曾肇添展藝廳) 客家舞麒麟訓練班
UID:796
END:VEVENT
BEGIN:VEVENT
DTSTAMP;TZID=Asia/Hong_Kong:20260421T004237
DTSTART;TZID=Asia/Hong_Kong:20230322T033000
DTEND;TZID=Asia/Hong_Kong:20230322T173000
LOCATION:香港科技大學曾肇添展藝廳
SUMMARY:國家級非物質文化遺產 -坑口區麒麟學堂 (科大校園 曾肇添展藝廳) 客家舞麒麟訓練班
UID:796
END:VEVENT
BEGIN:VEVENT
DTSTAMP;TZID=Asia/Hong_Kong:20260421T004237
DTSTART;TZID=Asia/Hong_Kong:20230323T033000
DTEND;TZID=Asia/Hong_Kong:20230323T173000
LOCATION:香港科技大學曾肇添展藝廳
SUMMARY:國家級非物質文化遺產 -坑口區麒麟學堂 (科大校園 曾肇添展藝廳) 客家舞麒麟訓練班
UID:796
END:VEVENT
BEGIN:VEVENT
DTSTAMP;TZID=Asia/Hong_Kong:20260421T004237
DTSTART;TZID=Asia/Hong_Kong:20230324T033000
DTEND;TZID=Asia/Hong_Kong:20230324T173000
LOCATION:香港科技大學曾肇添展藝廳
SUMMARY:國家級非物質文化遺產 -坑口區麒麟學堂 (科大校園 曾肇添展藝廳) 客家舞麒麟訓練班
UID:796
END:VEVENT
BEGIN:VEVENT
DTSTAMP;TZID=Asia/Hong_Kong:20260421T004237
DTSTART;TZID=Asia/Hong_Kong:20230325T033000
DTEND;TZID=Asia/Hong_Kong:20230325T173000
LOCATION:香港科技大學曾肇添展藝廳
SUMMARY:國家級非物質文化遺產 -坑口區麒麟學堂 (科大校園 曾肇添展藝廳) 客家舞麒麟訓練班
UID:796
END:VEVENT
BEGIN:VEVENT
DTSTAMP;TZID=Asia/Hong_Kong:20260421T004237
DTSTART;TZID=Asia/Hong_Kong:20230326T033000
DTEND;TZID=Asia/Hong_Kong:20230326T173000
LOCATION:香港科技大學曾肇添展藝廳
SUMMARY:國家級非物質文化遺產 -坑口區麒麟學堂 (科大校園 曾肇添展藝廳) 客家舞麒麟訓練班
UID:796
END:VEVENT
BEGIN:VEVENT
DTSTAMP;TZID=Asia/Hong_Kong:20260421T004237
DTSTART;TZID=Asia/Hong_Kong:20230327T033000
DTEND;TZID=Asia/Hong_Kong:20230327T173000
LOCATION:香港科技大學曾肇添展藝廳
SUMMARY:國家級非物質文化遺產 -坑口區麒麟學堂 (科大校園 曾肇添展藝廳) 客家舞麒麟訓練班
UID:796
END:VEVENT
BEGIN:VEVENT
DTSTAMP;TZID=Asia/Hong_Kong:20260421T004237
DTSTART;TZID=Asia/Hong_Kong:20230328T033000
DTEND;TZID=Asia/Hong_Kong:20230328T173000
LOCATION:香港科技大學曾肇添展藝廳
SUMMARY:國家級非物質文化遺產 -坑口區麒麟學堂 (科大校園 曾肇添展藝廳) 客家舞麒麟訓練班
UID:796
END:VEVENT
BEGIN:VEVENT
DTSTAMP;TZID=Asia/Hong_Kong:20260421T004237
DTSTART;TZID=Asia/Hong_Kong:20230329T033000
DTEND;TZID=Asia/Hong_Kong:20230329T173000
LOCATION:香港科技大學曾肇添展藝廳
SUMMARY:國家級非物質文化遺產 -坑口區麒麟學堂 (科大校園 曾肇添展藝廳) 客家舞麒麟訓練班
UID:796
END:VEVENT
BEGIN:VEVENT
DTSTAMP;TZID=Asia/Hong_Kong:20260421T004237
DTSTART;TZID=Asia/Hong_Kong:20230330T033000
DTEND;TZID=Asia/Hong_Kong:20230330T173000
LOCATION:香港科技大學曾肇添展藝廳
SUMMARY:國家級非物質文化遺產 -坑口區麒麟學堂 (科大校園 曾肇添展藝廳) 客家舞麒麟訓練班
UID:796
END:VEVENT
BEGIN:VEVENT
DTSTAMP;TZID=Asia/Hong_Kong:20260421T004237
DTSTART;TZID=Asia/Hong_Kong:20230331T033000
DTEND;TZID=Asia/Hong_Kong:20230331T173000
LOCATION:香港科技大學曾肇添展藝廳
SUMMARY:國家級非物質文化遺產 -坑口區麒麟學堂 (科大校園 曾肇添展藝廳) 客家舞麒麟訓練班
UID:796
END:VEVENT
BEGIN:VEVENT
DTSTAMP;TZID=Asia/Hong_Kong:20260421T004237
DTSTART;TZID=Asia/Hong_Kong:20230401T033000
DTEND;TZID=Asia/Hong_Kong:20230401T173000
LOCATION:香港科技大學曾肇添展藝廳
SUMMARY:國家級非物質文化遺產 -坑口區麒麟學堂 (科大校園 曾肇添展藝廳) 客家舞麒麟訓練班
UID:796
END:VEVENT
BEGIN:VEVENT
DTSTAMP;TZID=Asia/Hong_Kong:20260421T004237
DTSTART;TZID=Asia/Hong_Kong:20230402T033000
DTEND;TZID=Asia/Hong_Kong:20230402T173000
LOCATION:香港科技大學曾肇添展藝廳
SUMMARY:國家級非物質文化遺產 -坑口區麒麟學堂 (科大校園 曾肇添展藝廳) 客家舞麒麟訓練班
UID:796
END:VEVENT
BEGIN:VEVENT
DTSTAMP;TZID=Asia/Hong_Kong:20260421T004237
DTSTART;TZID=Asia/Hong_Kong:20230403T033000
DTEND;TZID=Asia/Hong_Kong:20230403T173000
LOCATION:香港科技大學曾肇添展藝廳
SUMMARY:國家級非物質文化遺產 -坑口區麒麟學堂 (科大校園 曾肇添展藝廳) 客家舞麒麟訓練班
UID:796
END:VEVENT
BEGIN:VEVENT
DTSTAMP;TZID=Asia/Hong_Kong:20260421T004237
DTSTART;TZID=Asia/Hong_Kong:20230404T033000
DTEND;TZID=Asia/Hong_Kong:20230404T173000
LOCATION:香港科技大學曾肇添展藝廳
SUMMARY:國家級非物質文化遺產 -坑口區麒麟學堂 (科大校園 曾肇添展藝廳) 客家舞麒麟訓練班
UID:796
END:VEVENT
BEGIN:VEVENT
DTSTAMP;TZID=Asia/Hong_Kong:20260421T004237
DTSTART;TZID=Asia/Hong_Kong:20230405T033000
DTEND;TZID=Asia/Hong_Kong:20230405T173000
LOCATION:香港科技大學曾肇添展藝廳
SUMMARY:國家級非物質文化遺產 -坑口區麒麟學堂 (科大校園 曾肇添展藝廳) 客家舞麒麟訓練班
UID:796
END:VEVENT
BEGIN:VEVENT
DTSTAMP;TZID=Asia/Hong_Kong:20260421T004237
DTSTART;TZID=Asia/Hong_Kong:20230406T033000
DTEND;TZID=Asia/Hong_Kong:20230406T173000
LOCATION:香港科技大學曾肇添展藝廳
SUMMARY:國家級非物質文化遺產 -坑口區麒麟學堂 (科大校園 曾肇添展藝廳) 客家舞麒麟訓練班
UID:796
END:VEVENT
BEGIN:VEVENT
DTSTAMP;TZID=Asia/Hong_Kong:20260421T004237
DTSTART;TZID=Asia/Hong_Kong:20230407T033000
DTEND;TZID=Asia/Hong_Kong:20230407T173000
LOCATION:香港科技大學曾肇添展藝廳
SUMMARY:國家級非物質文化遺產 -坑口區麒麟學堂 (科大校園 曾肇添展藝廳) 客家舞麒麟訓練班
UID:796
END:VEVENT
BEGIN:VEVENT
DTSTAMP;TZID=Asia/Hong_Kong:20260421T004237
DTSTART;TZID=Asia/Hong_Kong:20230408T033000
DTEND;TZID=Asia/Hong_Kong:20230408T173000
LOCATION:香港科技大學曾肇添展藝廳
SUMMARY:國家級非物質文化遺產 -坑口區麒麟學堂 (科大校園 曾肇添展藝廳) 客家舞麒麟訓練班
UID:796
END:VEVENT
BEGIN:VEVENT
DTSTAMP;TZID=Asia/Hong_Kong:20260421T004237
DTSTART;TZID=Asia/Hong_Kong:20230409T033000
DTEND;TZID=Asia/Hong_Kong:20230409T173000
LOCATION:香港科技大學曾肇添展藝廳
SUMMARY:國家級非物質文化遺產 -坑口區麒麟學堂 (科大校園 曾肇添展藝廳) 客家舞麒麟訓練班
UID:796
END:VEVENT
BEGIN:VEVENT
DTSTAMP;TZID=Asia/Hong_Kong:20260421T004237
DTSTART;TZID=Asia/Hong_Kong:20230410T033000
DTEND;TZID=Asia/Hong_Kong:20230410T173000
LOCATION:香港科技大學曾肇添展藝廳
SUMMARY:國家級非物質文化遺產 -坑口區麒麟學堂 (科大校園 曾肇添展藝廳) 客家舞麒麟訓練班
UID:796
END:VEVENT
BEGIN:VEVENT
DTSTAMP;TZID=Asia/Hong_Kong:20260421T004237
DTSTART;TZID=Asia/Hong_Kong:20230411T033000
DTEND;TZID=Asia/Hong_Kong:20230411T173000
LOCATION:香港科技大學曾肇添展藝廳
SUMMARY:國家級非物質文化遺產 -坑口區麒麟學堂 (科大校園 曾肇添展藝廳) 客家舞麒麟訓練班
UID:796
END:VEVENT
BEGIN:VEVENT
DTSTAMP;TZID=Asia/Hong_Kong:20260421T004237
DTSTART;TZID=Asia/Hong_Kong:20230412T033000
DTEND;TZID=Asia/Hong_Kong:20230412T173000
LOCATION:香港科技大學曾肇添展藝廳
SUMMARY:國家級非物質文化遺產 -坑口區麒麟學堂 (科大校園 曾肇添展藝廳) 客家舞麒麟訓練班
UID:796
END:VEVENT
BEGIN:VEVENT
DTSTAMP;TZID=Asia/Hong_Kong:20260421T004237
DTSTART;TZID=Asia/Hong_Kong:20230413T033000
DTEND;TZID=Asia/Hong_Kong:20230413T173000
LOCATION:香港科技大學曾肇添展藝廳
SUMMARY:國家級非物質文化遺產 -坑口區麒麟學堂 (科大校園 曾肇添展藝廳) 客家舞麒麟訓練班
UID:796
END:VEVENT
BEGIN:VEVENT
DTSTAMP;TZID=Asia/Hong_Kong:20260421T004237
DTSTART;TZID=Asia/Hong_Kong:20230414T033000
DTEND;TZID=Asia/Hong_Kong:20230414T173000
LOCATION:香港科技大學曾肇添展藝廳
SUMMARY:國家級非物質文化遺產 -坑口區麒麟學堂 (科大校園 曾肇添展藝廳) 客家舞麒麟訓練班
UID:796
END:VEVENT
BEGIN:VEVENT
DTSTAMP;TZID=Asia/Hong_Kong:20260421T004237
DTSTART;TZID=Asia/Hong_Kong:20230415T033000
DTEND;TZID=Asia/Hong_Kong:20230415T173000
LOCATION:香港科技大學曾肇添展藝廳
SUMMARY:國家級非物質文化遺產 -坑口區麒麟學堂 (科大校園 曾肇添展藝廳) 客家舞麒麟訓練班
UID:796
END:VEVENT
BEGIN:VEVENT
DTSTAMP;TZID=Asia/Hong_Kong:20260421T004237
DTSTART;TZID=Asia/Hong_Kong:20230416T033000
DTEND;TZID=Asia/Hong_Kong:20230416T173000
LOCATION:香港科技大學曾肇添展藝廳
SUMMARY:國家級非物質文化遺產 -坑口區麒麟學堂 (科大校園 曾肇添展藝廳) 客家舞麒麟訓練班
UID:796
END:VEVENT
BEGIN:VEVENT
DTSTAMP;TZID=Asia/Hong_Kong:20260421T004237
DTSTART;TZID=Asia/Hong_Kong:20230417T033000
DTEND;TZID=Asia/Hong_Kong:20230417T173000
LOCATION:香港科技大學曾肇添展藝廳
SUMMARY:國家級非物質文化遺產 -坑口區麒麟學堂 (科大校園 曾肇添展藝廳) 客家舞麒麟訓練班
UID:796
END:VEVENT
BEGIN:VEVENT
DTSTAMP;TZID=Asia/Hong_Kong:20260421T004237
DTSTART;TZID=Asia/Hong_Kong:20230418T033000
DTEND;TZID=Asia/Hong_Kong:20230418T173000
LOCATION:香港科技大學曾肇添展藝廳
SUMMARY:國家級非物質文化遺產 -坑口區麒麟學堂 (科大校園 曾肇添展藝廳) 客家舞麒麟訓練班
UID:796
END:VEVENT
BEGIN:VEVENT
DTSTAMP;TZID=Asia/Hong_Kong:20260421T004237
DTSTART;TZID=Asia/Hong_Kong:20230419T033000
DTEND;TZID=Asia/Hong_Kong:20230419T173000
LOCATION:香港科技大學曾肇添展藝廳
SUMMARY:國家級非物質文化遺產 -坑口區麒麟學堂 (科大校園 曾肇添展藝廳) 客家舞麒麟訓練班
UID:796
END:VEVENT
BEGIN:VEVENT
DTSTAMP;TZID=Asia/Hong_Kong:20260421T004237
DTSTART;TZID=Asia/Hong_Kong:20230420T033000
DTEND;TZID=Asia/Hong_Kong:20230420T173000
LOCATION:香港科技大學曾肇添展藝廳
SUMMARY:國家級非物質文化遺產 -坑口區麒麟學堂 (科大校園 曾肇添展藝廳) 客家舞麒麟訓練班
UID:796
END:VEVENT
BEGIN:VEVENT
DTSTAMP;TZID=Asia/Hong_Kong:20260421T004237
DTSTART;TZID=Asia/Hong_Kong:20230421T033000
DTEND;TZID=Asia/Hong_Kong:20230421T173000
LOCATION:香港科技大學曾肇添展藝廳
SUMMARY:國家級非物質文化遺產 -坑口區麒麟學堂 (科大校園 曾肇添展藝廳) 客家舞麒麟訓練班
UID:796
END:VEVENT
BEGIN:VEVENT
DTSTAMP;TZID=Asia/Hong_Kong:20260421T004237
DTSTART;TZID=Asia/Hong_Kong:20230422T033000
DTEND;TZID=Asia/Hong_Kong:20230422T173000
LOCATION:香港科技大學曾肇添展藝廳
SUMMARY:國家級非物質文化遺產 -坑口區麒麟學堂 (科大校園 曾肇添展藝廳) 客家舞麒麟訓練班
UID:796
END:VEVENT
BEGIN:VEVENT
DTSTAMP;TZID=Asia/Hong_Kong:20260421T004237
DTSTART;TZID=Asia/Hong_Kong:20230423T033000
DTEND;TZID=Asia/Hong_Kong:20230423T173000
LOCATION:香港科技大學曾肇添展藝廳
SUMMARY:國家級非物質文化遺產 -坑口區麒麟學堂 (科大校園 曾肇添展藝廳) 客家舞麒麟訓練班
UID:796
END:VEVENT
BEGIN:VEVENT
DTSTAMP;TZID=Asia/Hong_Kong:20260421T004237
DTSTART;TZID=Asia/Hong_Kong:20230424T033000
DTEND;TZID=Asia/Hong_Kong:20230424T173000
LOCATION:香港科技大學曾肇添展藝廳
SUMMARY:國家級非物質文化遺產 -坑口區麒麟學堂 (科大校園 曾肇添展藝廳) 客家舞麒麟訓練班
UID:796
END:VEVENT
BEGIN:VEVENT
DTSTAMP;TZID=Asia/Hong_Kong:20260421T004237
DTSTART;TZID=Asia/Hong_Kong:20230425T033000
DTEND;TZID=Asia/Hong_Kong:20230425T173000
LOCATION:香港科技大學曾肇添展藝廳
SUMMARY:國家級非物質文化遺產 -坑口區麒麟學堂 (科大校園 曾肇添展藝廳) 客家舞麒麟訓練班
UID:796
END:VEVENT
BEGIN:VEVENT
DTSTAMP;TZID=Asia/Hong_Kong:20260421T004237
DTSTART;TZID=Asia/Hong_Kong:20230426T033000
DTEND;TZID=Asia/Hong_Kong:20230426T173000
LOCATION:香港科技大學曾肇添展藝廳
SUMMARY:國家級非物質文化遺產 -坑口區麒麟學堂 (科大校園 曾肇添展藝廳) 客家舞麒麟訓練班
UID:796
END:VEVENT
BEGIN:VEVENT
DTSTAMP;TZID=Asia/Hong_Kong:20260421T004237
DTSTART;TZID=Asia/Hong_Kong:20230427T033000
DTEND;TZID=Asia/Hong_Kong:20230427T173000
LOCATION:香港科技大學曾肇添展藝廳
SUMMARY:國家級非物質文化遺產 -坑口區麒麟學堂 (科大校園 曾肇添展藝廳) 客家舞麒麟訓練班
UID:796
END:VEVENT
BEGIN:VEVENT
DTSTAMP;TZID=Asia/Hong_Kong:20260421T004237
DTSTART;TZID=Asia/Hong_Kong:20230428T033000
DTEND;TZID=Asia/Hong_Kong:20230428T173000
LOCATION:香港科技大學曾肇添展藝廳
SUMMARY:國家級非物質文化遺產 -坑口區麒麟學堂 (科大校園 曾肇添展藝廳) 客家舞麒麟訓練班
UID:796
END:VEVENT
BEGIN:VEVENT
DTSTAMP;TZID=Asia/Hong_Kong:20260421T004237
DTSTART;TZID=Asia/Hong_Kong:20230429T033000
DTEND;TZID=Asia/Hong_Kong:20230429T173000
LOCATION:香港科技大學曾肇添展藝廳
SUMMARY:國家級非物質文化遺產 -坑口區麒麟學堂 (科大校園 曾肇添展藝廳) 客家舞麒麟訓練班
UID:796
END:VEVENT
BEGIN:VEVENT
DTSTAMP;TZID=Asia/Hong_Kong:20260421T004237
DTSTART;TZID=Asia/Hong_Kong:20230430T033000
DTEND;TZID=Asia/Hong_Kong:20230430T173000
LOCATION:香港科技大學曾肇添展藝廳
SUMMARY:國家級非物質文化遺產 -坑口區麒麟學堂 (科大校園 曾肇添展藝廳) 客家舞麒麟訓練班
UID:796
END:VEVENT
BEGIN:VEVENT
DTSTAMP;TZID=Asia/Hong_Kong:20260421T004237
DTSTART;TZID=Asia/Hong_Kong:20230501T033000
DTEND;TZID=Asia/Hong_Kong:20230501T173000
LOCATION:香港科技大學曾肇添展藝廳
SUMMARY:國家級非物質文化遺產 -坑口區麒麟學堂 (科大校園 曾肇添展藝廳) 客家舞麒麟訓練班
UID:796
END:VEVENT
BEGIN:VEVENT
DTSTAMP;TZID=Asia/Hong_Kong:20260421T004237
DTSTART;TZID=Asia/Hong_Kong:20230502T033000
DTEND;TZID=Asia/Hong_Kong:20230502T173000
LOCATION:香港科技大學曾肇添展藝廳
SUMMARY:國家級非物質文化遺產 -坑口區麒麟學堂 (科大校園 曾肇添展藝廳) 客家舞麒麟訓練班
UID:796
END:VEVENT
BEGIN:VEVENT
DTSTAMP;TZID=Asia/Hong_Kong:20260421T004237
DTSTART;TZID=Asia/Hong_Kong:20230503T033000
DTEND;TZID=Asia/Hong_Kong:20230503T173000
LOCATION:香港科技大學曾肇添展藝廳
SUMMARY:國家級非物質文化遺產 -坑口區麒麟學堂 (科大校園 曾肇添展藝廳) 客家舞麒麟訓練班
UID:796
END:VEVENT
BEGIN:VEVENT
DTSTAMP;TZID=Asia/Hong_Kong:20260421T004237
DTSTART;TZID=Asia/Hong_Kong:20230504T033000
DTEND;TZID=Asia/Hong_Kong:20230504T173000
LOCATION:香港科技大學曾肇添展藝廳
SUMMARY:國家級非物質文化遺產 -坑口區麒麟學堂 (科大校園 曾肇添展藝廳) 客家舞麒麟訓練班
UID:796
END:VEVENT
BEGIN:VEVENT
DTSTAMP;TZID=Asia/Hong_Kong:20260421T004237
DTSTART;TZID=Asia/Hong_Kong:20230505T033000
DTEND;TZID=Asia/Hong_Kong:20230505T173000
LOCATION:香港科技大學曾肇添展藝廳
SUMMARY:國家級非物質文化遺產 -坑口區麒麟學堂 (科大校園 曾肇添展藝廳) 客家舞麒麟訓練班
UID:796
END:VEVENT
END:VCALENDAR