BEGIN:VCALENDAR
PRODID:-//HKUST Drupal Platform//EN
VERSION:2.0
BEGIN:VTIMEZONE
TZID:Asia/Hong_Kong
BEGIN:STANDARD
DTSTART:20071104T020000
TZOFFSETFROM:+0700
TZOFFSETTO:+0800
TZNAME:HKT
END:STANDARD
END:VTIMEZONE
BEGIN:VEVENT
DTSTAMP;TZID=Asia/Hong_Kong:20260422T040047
DTSTART;TZID=Asia/Hong_Kong:20230403T190000
DTEND;TZID=Asia/Hong_Kong:20230403T223000
LOCATION:香港科技大學逸夫演藝中心禮堂 Main Hall, HKUST Shaw Auditorium
SUMMARY:IAS Program on Chinese Creative Writing 中國文學創作研究專題：李睿珺科大電影週—《隱入塵煙》電影放映及映後談 [活動內容更新]
UID:798
END:VEVENT
END:VCALENDAR