BEGIN:VCALENDAR
PRODID:-//HKUST Drupal Platform//EN
VERSION:2.0
BEGIN:VTIMEZONE
TZID:Asia/Hong_Kong
BEGIN:STANDARD
DTSTART:20071104T020000
TZOFFSETFROM:+0700
TZOFFSETTO:+0800
TZNAME:HKT
END:STANDARD
END:VTIMEZONE
BEGIN:VEVENT
DTSTAMP;TZID=Asia/Hong_Kong:20260422T092715
DTSTART;TZID=Asia/Hong_Kong:20230411T160000
DTEND;TZID=Asia/Hong_Kong:20230411T173000
LOCATION:Via Zoom
SUMMARY:Facing the Future: Machine Learning and AI in Libraries, Archives and Museums
UID:801
END:VEVENT
END:VCALENDAR