BEGIN:VCALENDAR
PRODID:-//HKUST Drupal Platform//EN
VERSION:2.0
BEGIN:VTIMEZONE
TZID:Asia/Hong_Kong
BEGIN:STANDARD
DTSTART:20071104T020000
TZOFFSETFROM:+0700
TZOFFSETTO:+0800
TZNAME:HKT
END:STANDARD
END:VTIMEZONE
BEGIN:VEVENT
DTSTAMP;TZID=Asia/Hong_Kong:20260422T092714
DTSTART;TZID=Asia/Hong_Kong:20230418T030000
DTEND;TZID=Asia/Hong_Kong:19700101T080000
LOCATION:Online via Zoom
SUMMARY:文學的移交 —中國新生代小說家系列講座：以文學之舟漂流於時代
UID:811
END:VEVENT
END:VCALENDAR