BEGIN:VCALENDAR
PRODID:-//HKUST Drupal Platform//EN
VERSION:2.0
BEGIN:VTIMEZONE
TZID:Asia/Hong_Kong
BEGIN:STANDARD
DTSTART:20071104T020000
TZOFFSETFROM:+0700
TZOFFSETTO:+0800
TZNAME:HKT
END:STANDARD
END:VTIMEZONE
BEGIN:VEVENT
DTSTAMP;TZID=Asia/Hong_Kong:20260422T092714
DTSTART;TZID=Asia/Hong_Kong:20230404T000000
DTEND;TZID=Asia/Hong_Kong:20230404T000000
LOCATION:Area near LT-C and LT-D
SUMMARY:“Gift Me A Moment”The Art Exhibition of People in Recovery
UID:813
END:VEVENT
BEGIN:VEVENT
DTSTAMP;TZID=Asia/Hong_Kong:20260422T092714
DTSTART;TZID=Asia/Hong_Kong:20230405T000000
DTEND;TZID=Asia/Hong_Kong:20230405T000000
LOCATION:Area near LT-C and LT-D
SUMMARY:“Gift Me A Moment”The Art Exhibition of People in Recovery
UID:813
END:VEVENT
BEGIN:VEVENT
DTSTAMP;TZID=Asia/Hong_Kong:20260422T092714
DTSTART;TZID=Asia/Hong_Kong:20230406T000000
DTEND;TZID=Asia/Hong_Kong:20230406T000000
LOCATION:Area near LT-C and LT-D
SUMMARY:“Gift Me A Moment”The Art Exhibition of People in Recovery
UID:813
END:VEVENT
BEGIN:VEVENT
DTSTAMP;TZID=Asia/Hong_Kong:20260422T092714
DTSTART;TZID=Asia/Hong_Kong:20230407T000000
DTEND;TZID=Asia/Hong_Kong:20230407T000000
LOCATION:Area near LT-C and LT-D
SUMMARY:“Gift Me A Moment”The Art Exhibition of People in Recovery
UID:813
END:VEVENT
BEGIN:VEVENT
DTSTAMP;TZID=Asia/Hong_Kong:20260422T092714
DTSTART;TZID=Asia/Hong_Kong:20230408T000000
DTEND;TZID=Asia/Hong_Kong:20230408T000000
LOCATION:Area near LT-C and LT-D
SUMMARY:“Gift Me A Moment”The Art Exhibition of People in Recovery
UID:813
END:VEVENT
BEGIN:VEVENT
DTSTAMP;TZID=Asia/Hong_Kong:20260422T092714
DTSTART;TZID=Asia/Hong_Kong:20230409T000000
DTEND;TZID=Asia/Hong_Kong:20230409T000000
LOCATION:Area near LT-C and LT-D
SUMMARY:“Gift Me A Moment”The Art Exhibition of People in Recovery
UID:813
END:VEVENT
BEGIN:VEVENT
DTSTAMP;TZID=Asia/Hong_Kong:20260422T092714
DTSTART;TZID=Asia/Hong_Kong:20230410T000000
DTEND;TZID=Asia/Hong_Kong:20230410T000000
LOCATION:Area near LT-C and LT-D
SUMMARY:“Gift Me A Moment”The Art Exhibition of People in Recovery
UID:813
END:VEVENT
BEGIN:VEVENT
DTSTAMP;TZID=Asia/Hong_Kong:20260422T092714
DTSTART;TZID=Asia/Hong_Kong:20230411T000000
DTEND;TZID=Asia/Hong_Kong:20230411T000000
LOCATION:Area near LT-C and LT-D
SUMMARY:“Gift Me A Moment”The Art Exhibition of People in Recovery
UID:813
END:VEVENT
BEGIN:VEVENT
DTSTAMP;TZID=Asia/Hong_Kong:20260422T092714
DTSTART;TZID=Asia/Hong_Kong:20230412T000000
DTEND;TZID=Asia/Hong_Kong:20230412T000000
LOCATION:Area near LT-C and LT-D
SUMMARY:“Gift Me A Moment”The Art Exhibition of People in Recovery
UID:813
END:VEVENT
BEGIN:VEVENT
DTSTAMP;TZID=Asia/Hong_Kong:20260422T092714
DTSTART;TZID=Asia/Hong_Kong:20230413T000000
DTEND;TZID=Asia/Hong_Kong:20230413T000000
LOCATION:Area near LT-C and LT-D
SUMMARY:“Gift Me A Moment”The Art Exhibition of People in Recovery
UID:813
END:VEVENT
BEGIN:VEVENT
DTSTAMP;TZID=Asia/Hong_Kong:20260422T092714
DTSTART;TZID=Asia/Hong_Kong:20230414T000000
DTEND;TZID=Asia/Hong_Kong:20230414T000000
LOCATION:Area near LT-C and LT-D
SUMMARY:“Gift Me A Moment”The Art Exhibition of People in Recovery
UID:813
END:VEVENT
BEGIN:VEVENT
DTSTAMP;TZID=Asia/Hong_Kong:20260422T092714
DTSTART;TZID=Asia/Hong_Kong:20230415T000000
DTEND;TZID=Asia/Hong_Kong:20230415T000000
LOCATION:Area near LT-C and LT-D
SUMMARY:“Gift Me A Moment”The Art Exhibition of People in Recovery
UID:813
END:VEVENT
BEGIN:VEVENT
DTSTAMP;TZID=Asia/Hong_Kong:20260422T092714
DTSTART;TZID=Asia/Hong_Kong:20230416T000000
DTEND;TZID=Asia/Hong_Kong:20230416T000000
LOCATION:Area near LT-C and LT-D
SUMMARY:“Gift Me A Moment”The Art Exhibition of People in Recovery
UID:813
END:VEVENT
BEGIN:VEVENT
DTSTAMP;TZID=Asia/Hong_Kong:20260422T092714
DTSTART;TZID=Asia/Hong_Kong:20230417T000000
DTEND;TZID=Asia/Hong_Kong:20230417T000000
LOCATION:Area near LT-C and LT-D
SUMMARY:“Gift Me A Moment”The Art Exhibition of People in Recovery
UID:813
END:VEVENT
BEGIN:VEVENT
DTSTAMP;TZID=Asia/Hong_Kong:20260422T092714
DTSTART;TZID=Asia/Hong_Kong:20230418T000000
DTEND;TZID=Asia/Hong_Kong:20230418T000000
LOCATION:Area near LT-C and LT-D
SUMMARY:“Gift Me A Moment”The Art Exhibition of People in Recovery
UID:813
END:VEVENT
BEGIN:VEVENT
DTSTAMP;TZID=Asia/Hong_Kong:20260422T092714
DTSTART;TZID=Asia/Hong_Kong:20230419T000000
DTEND;TZID=Asia/Hong_Kong:20230419T000000
LOCATION:Area near LT-C and LT-D
SUMMARY:“Gift Me A Moment”The Art Exhibition of People in Recovery
UID:813
END:VEVENT
END:VCALENDAR