BEGIN:VCALENDAR
PRODID:-//HKUST Drupal Platform//EN
VERSION:2.0
BEGIN:VTIMEZONE
TZID:Asia/Hong_Kong
BEGIN:STANDARD
DTSTART:20071104T020000
TZOFFSETFROM:+0700
TZOFFSETTO:+0800
TZNAME:HKT
END:STANDARD
END:VTIMEZONE
BEGIN:VEVENT
DTSTAMP;TZID=Asia/Hong_Kong:20260422T002049
DTSTART;TZID=Asia/Hong_Kong:20230418T070000
DTEND;TZID=Asia/Hong_Kong:19700101T080000
LOCATION:LTC (夏利萊博士及夫人演講廳)
SUMMARY:記錄片放映: 《蕭軍六記》 及 映後座談會
UID:822
END:VEVENT
END:VCALENDAR