BEGIN:VCALENDAR
PRODID:-//HKUST Drupal Platform//EN
VERSION:2.0
BEGIN:VTIMEZONE
TZID:Asia/Hong_Kong
BEGIN:STANDARD
DTSTART:20071104T020000
TZOFFSETFROM:+0700
TZOFFSETTO:+0800
TZNAME:HKT
END:STANDARD
END:VTIMEZONE
BEGIN:VEVENT
DTSTAMP;TZID=Asia/Hong_Kong:20260422T022446
DTSTART;TZID=Asia/Hong_Kong:20230428T020000
DTEND;TZID=Asia/Hong_Kong:20230428T153000
LOCATION:Dean\'s Suite, Room 3360 (Lifts 13-15), Academic Building
SUMMARY:Book Talk - Transformational Leaders and dynamics of Chinese Foreign Policy
UID:824
END:VEVENT
END:VCALENDAR