BEGIN:VCALENDAR
PRODID:-//HKUST Drupal Platform//EN
VERSION:2.0
BEGIN:VTIMEZONE
TZID:Asia/Hong_Kong
BEGIN:STANDARD
DTSTART:20071104T020000
TZOFFSETFROM:+0700
TZOFFSETTO:+0800
TZNAME:HKT
END:STANDARD
END:VTIMEZONE
BEGIN:VEVENT
DTSTAMP;TZID=Asia/Hong_Kong:20260422T022446
DTSTART;TZID=Asia/Hong_Kong:20230529T180000
DTEND;TZID=Asia/Hong_Kong:20230529T230000
LOCATION:Sai Kung New Public Pier (西貢新公衆碼頭)
SUMMARY:2023 Cuttlefish Fishing Night 夜釣墨魚
UID:829
END:VEVENT
END:VCALENDAR