BEGIN:VCALENDAR
PRODID:-//HKUST Drupal Platform//EN
VERSION:2.0
BEGIN:VTIMEZONE
TZID:Asia/Hong_Kong
BEGIN:STANDARD
DTSTART:20071104T020000
TZOFFSETFROM:+0700
TZOFFSETTO:+0800
TZNAME:HKT
END:STANDARD
END:VTIMEZONE
BEGIN:VEVENT
DTSTAMP;TZID=Asia/Hong_Kong:20260422T022446
DTSTART;TZID=Asia/Hong_Kong:20230428T150000
DTEND;TZID=Asia/Hong_Kong:20230428T170000
LOCATION:TWGHs iBakery Gallery Café, Admiralty
SUMMARY:Chill Coffee Workshop @ TWGHs iBakery Gallery Cafe
UID:836
END:VEVENT
END:VCALENDAR