BEGIN:VCALENDAR
PRODID:-//HKUST Drupal Platform//EN
VERSION:2.0
BEGIN:VTIMEZONE
TZID:Asia/Hong_Kong
BEGIN:STANDARD
DTSTART:20071104T020000
TZOFFSETFROM:+0700
TZOFFSETTO:+0800
TZNAME:HKT
END:STANDARD
END:VTIMEZONE
BEGIN:VEVENT
DTSTAMP;TZID=Asia/Hong_Kong:20260422T092714
DTSTART;TZID=Asia/Hong_Kong:19700101T080000
DTEND;TZID=Asia/Hong_Kong:19700101T080000
LOCATION:Room 3301 (Lift 2 or Lifts 17-18), 3/F Academic Building, HKUST
SUMMARY:Religious minorities in the 2019 Hong Kong protests: Ambivalence, strategies of (non)participation, and claims of belonging among Muslims, Sikhs, and Hindus of Hong Kong
UID:841
END:VEVENT
END:VCALENDAR