BEGIN:VCALENDAR
PRODID:-//HKUST Drupal Platform//EN
VERSION:2.0
BEGIN:VTIMEZONE
TZID:Asia/Hong_Kong
BEGIN:STANDARD
DTSTART:20071104T020000
TZOFFSETFROM:+0700
TZOFFSETTO:+0800
TZNAME:HKT
END:STANDARD
END:VTIMEZONE
BEGIN:VEVENT
DTSTAMP;TZID=Asia/Hong_Kong:20260422T022445
DTSTART;TZID=Asia/Hong_Kong:20230626T020000
DTEND;TZID=Asia/Hong_Kong:19700101T080000
LOCATION:2464室 (25-26號電梯)
SUMMARY:HUMA 講座 一 棄，切，槍：莫言短篇小說中的家族觀 
UID:847
END:VEVENT
END:VCALENDAR