BEGIN:VCALENDAR
PRODID:-//HKUST Drupal Platform//EN
VERSION:2.0
BEGIN:VTIMEZONE
TZID:Asia/Hong_Kong
BEGIN:STANDARD
DTSTART:20071104T020000
TZOFFSETFROM:+0700
TZOFFSETTO:+0800
TZNAME:HKT
END:STANDARD
END:VTIMEZONE
BEGIN:VEVENT
DTSTAMP;TZID=Asia/Hong_Kong:20260422T022446
DTSTART;TZID=Asia/Hong_Kong:20230629T000000
DTEND;TZID=Asia/Hong_Kong:20230629T000000
LOCATION:IAS 5007, Lee Shau Kee Campus
SUMMARY:Chinese Animation: Multiplicities in Motion - A Book Publication Workshop in Honor of Professor Yingjin Zhang (1957-2022)
UID:849
END:VEVENT
BEGIN:VEVENT
DTSTAMP;TZID=Asia/Hong_Kong:20260422T022446
DTSTART;TZID=Asia/Hong_Kong:20230630T000000
DTEND;TZID=Asia/Hong_Kong:20230630T000000
LOCATION:IAS 5007, Lee Shau Kee Campus
SUMMARY:Chinese Animation: Multiplicities in Motion - A Book Publication Workshop in Honor of Professor Yingjin Zhang (1957-2022)
UID:849
END:VEVENT
END:VCALENDAR