BEGIN:VCALENDAR
PRODID:-//HKUST Drupal Platform//EN
VERSION:2.0
BEGIN:VTIMEZONE
TZID:Asia/Hong_Kong
BEGIN:STANDARD
DTSTART:20071104T020000
TZOFFSETFROM:+0700
TZOFFSETTO:+0800
TZNAME:HKT
END:STANDARD
END:VTIMEZONE
BEGIN:VEVENT
DTSTAMP;TZID=Asia/Hong_Kong:20260422T035956
DTSTART;TZID=Asia/Hong_Kong:20230809T030000
DTEND;TZID=Asia/Hong_Kong:19700101T080000
LOCATION:Hybrid (Room 3301, near Lift 17-18, HKUST and over Zoom)
SUMMARY:HUMA Seminar - The Unfolding of Empiricism in India
UID:856
END:VEVENT
END:VCALENDAR