BEGIN:VCALENDAR
PRODID:-//HKUST Drupal Platform//EN
VERSION:2.0
BEGIN:VTIMEZONE
TZID:Asia/Hong_Kong
BEGIN:STANDARD
DTSTART:20071104T020000
TZOFFSETFROM:+0700
TZOFFSETTO:+0800
TZNAME:HKT
END:STANDARD
END:VTIMEZONE
BEGIN:VEVENT
DTSTAMP;TZID=Asia/Hong_Kong:20260421T202603
DTSTART;TZID=Asia/Hong_Kong:20230819T140000
DTEND;TZID=Asia/Hong_Kong:20230819T170000
LOCATION:Tai O, Lantau Island
SUMMARY:大澳田野考察 - 大澳地方社會
UID:862
END:VEVENT
END:VCALENDAR