BEGIN:VCALENDAR
PRODID:-//HKUST Drupal Platform//EN
VERSION:2.0
BEGIN:VTIMEZONE
TZID:Asia/Hong_Kong
BEGIN:STANDARD
DTSTART:20071104T020000
TZOFFSETFROM:+0700
TZOFFSETTO:+0800
TZNAME:HKT
END:STANDARD
END:VTIMEZONE
BEGIN:VEVENT
DTSTAMP;TZID=Asia/Hong_Kong:20260421T224634
DTSTART;TZID=Asia/Hong_Kong:20231009T020000
DTEND;TZID=Asia/Hong_Kong:20231009T150000
LOCATION:Room 3301 (Lifts no. 2 or 17-18)
SUMMARY:HUMA Seminar - Public Lecture Series: The Global Impact of Research in Chinese Art by Wu Hung - Research Seminar
UID:874
END:VEVENT
END:VCALENDAR