BEGIN:VCALENDAR
PRODID:-//HKUST Drupal Platform//EN
VERSION:2.0
BEGIN:VTIMEZONE
TZID:Asia/Hong_Kong
BEGIN:STANDARD
DTSTART:20071104T020000
TZOFFSETFROM:+0700
TZOFFSETTO:+0800
TZNAME:HKT
END:STANDARD
END:VTIMEZONE
BEGIN:VEVENT
DTSTAMP;TZID=Asia/Hong_Kong:20260420T163747
DTSTART;TZID=Asia/Hong_Kong:20231013T090000
DTEND;TZID=Asia/Hong_Kong:20231013T110000
LOCATION:Zoom
SUMMARY:GCC Lecture - 攜帶著詩歌返回俄羅斯—二十世紀俄羅斯僑民詩歌漫談
UID:880
END:VEVENT
END:VCALENDAR