BEGIN:VCALENDAR
PRODID:-//HKUST Drupal Platform//EN
VERSION:2.0
BEGIN:VTIMEZONE
TZID:Asia/Hong_Kong
BEGIN:STANDARD
DTSTART:20071104T020000
TZOFFSETFROM:+0700
TZOFFSETTO:+0800
TZNAME:HKT
END:STANDARD
END:VTIMEZONE
BEGIN:VEVENT
DTSTAMP;TZID=Asia/Hong_Kong:20260421T152526
DTSTART;TZID=Asia/Hong_Kong:20231103T090000
DTEND;TZID=Asia/Hong_Kong:20231103T110000
LOCATION:Zoom
SUMMARY:GCC Lecture - “我們身處兩個世界中間”：1920-1940年代哈爾濱俄僑作家的“思鄉病”
UID:888
END:VEVENT
END:VCALENDAR