BEGIN:VCALENDAR
PRODID:-//HKUST Drupal Platform//EN
VERSION:2.0
BEGIN:VTIMEZONE
TZID:Asia/Hong_Kong
BEGIN:STANDARD
DTSTART:20071104T020000
TZOFFSETFROM:+0700
TZOFFSETTO:+0800
TZNAME:HKT
END:STANDARD
END:VTIMEZONE
BEGIN:VEVENT
DTSTAMP;TZID=Asia/Hong_Kong:20260421T023822
DTSTART;TZID=Asia/Hong_Kong:20231115T160000
DTEND;TZID=Asia/Hong_Kong:20231115T173000
LOCATION:Room 1104 (next to LTA)
SUMMARY:GCC Lecture - 中國影像史的全球文獻匯集與研究
UID:890
END:VEVENT
END:VCALENDAR