BEGIN:VCALENDAR
PRODID:-//HKUST Drupal Platform//EN
VERSION:2.0
BEGIN:VTIMEZONE
TZID:Asia/Hong_Kong
BEGIN:STANDARD
DTSTART:20071104T020000
TZOFFSETFROM:+0700
TZOFFSETTO:+0800
TZNAME:HKT
END:STANDARD
END:VTIMEZONE
BEGIN:VEVENT
DTSTAMP;TZID=Asia/Hong_Kong:20260425T034731
DTSTART;TZID=Asia/Hong_Kong:20201125T120000
DTEND;TZID=Asia/Hong_Kong:20201125T130000
SUMMARY:Reinventing the Nation in the Condition of Globalization in Contemporary Chinese Cinema and Visual Culture (Wednesday 25 Nov 2020)
UID:9
END:VEVENT
END:VCALENDAR