BEGIN:VCALENDAR
PRODID:-//HKUST Drupal Platform//EN
VERSION:2.0
BEGIN:VTIMEZONE
TZID:Asia/Hong_Kong
BEGIN:STANDARD
DTSTART:20071104T020000
TZOFFSETFROM:+0700
TZOFFSETTO:+0800
TZNAME:HKT
END:STANDARD
END:VTIMEZONE
BEGIN:VEVENT
DTSTAMP;TZID=Asia/Hong_Kong:20260420T183356
DTSTART;TZID=Asia/Hong_Kong:20231206T160000
DTEND;TZID=Asia/Hong_Kong:20231206T173000
SUMMARY:HUMA Seminar - Reexamining the position of Cantonese within the Mainland Southeast Asian linguistic area 重新審視廣府話在東南亞大陸語言區域中的地位
UID:900
END:VEVENT
END:VCALENDAR