BEGIN:VCALENDAR
PRODID:-//HKUST Drupal Platform//EN
VERSION:2.0
BEGIN:VTIMEZONE
TZID:Asia/Hong_Kong
BEGIN:STANDARD
DTSTART:20071104T020000
TZOFFSETFROM:+0700
TZOFFSETTO:+0800
TZNAME:HKT
END:STANDARD
END:VTIMEZONE
BEGIN:VEVENT
DTSTAMP;TZID=Asia/Hong_Kong:20260420T155125
DTSTART;TZID=Asia/Hong_Kong:20240221T140000
DTEND;TZID=Asia/Hong_Kong:20240221T153000
LOCATION:Room 3301 (Lift no 17-18), Academic Building
SUMMARY:HUMA Seminar - Rethinking the Twentieth Century Through the Prism of Modern Japan
UID:917
END:VEVENT
END:VCALENDAR