BEGIN:VCALENDAR
PRODID:-//HKUST Drupal Platform//EN
VERSION:2.0
BEGIN:VTIMEZONE
TZID:Asia/Hong_Kong
BEGIN:STANDARD
DTSTART:20071104T020000
TZOFFSETFROM:+0700
TZOFFSETTO:+0800
TZNAME:HKT
END:STANDARD
END:VTIMEZONE
BEGIN:VEVENT
DTSTAMP;TZID=Asia/Hong_Kong:20260420T153738
DTSTART;TZID=Asia/Hong_Kong:20240221T193000
DTEND;TZID=Asia/Hong_Kong:19700101T080000
LOCATION:LT-A, Academic Building, HKUST
SUMMARY:Cosmopolis Festival - Chris Carpio: Heir to a Filipino Music Legacy in Hong Kong
UID:919
END:VEVENT
END:VCALENDAR