BEGIN:VCALENDAR
PRODID:-//HKUST Drupal Platform//EN
VERSION:2.0
BEGIN:VTIMEZONE
TZID:Asia/Hong_Kong
BEGIN:STANDARD
DTSTART:20071104T020000
TZOFFSETFROM:+0700
TZOFFSETTO:+0800
TZNAME:HKT
END:STANDARD
END:VTIMEZONE
BEGIN:VEVENT
DTSTAMP;TZID=Asia/Hong_Kong:20260420T173932
DTSTART;TZID=Asia/Hong_Kong:20240307T040000
DTEND;TZID=Asia/Hong_Kong:20240307T173000
LOCATION:Room 4472 (Lift no. 25-26), Academic Building
SUMMARY:HUMA Seminar - Stirrings of the Heart, Stirrings of the Cosmos: The Worlds of Classical Chinese Aesthetics
UID:921
END:VEVENT
END:VCALENDAR