BEGIN:VCALENDAR
PRODID:-//HKUST Drupal Platform//EN
VERSION:2.0
BEGIN:VTIMEZONE
TZID:Asia/Hong_Kong
BEGIN:STANDARD
DTSTART:20071104T020000
TZOFFSETFROM:+0700
TZOFFSETTO:+0800
TZNAME:HKT
END:STANDARD
END:VTIMEZONE
BEGIN:VEVENT
DTSTAMP;TZID=Asia/Hong_Kong:20260420T155125
DTSTART;TZID=Asia/Hong_Kong:20240311T140000
DTEND;TZID=Asia/Hong_Kong:20240311T170000
SUMMARY:HKUST and HKUST(GZ) Virtual Fair on MPhil and PhD Studies 2024 (Mar 2024)
UID:922
END:VEVENT
END:VCALENDAR