BEGIN:VCALENDAR
PRODID:-//HKUST Drupal Platform//EN
VERSION:2.0
BEGIN:VTIMEZONE
TZID:Asia/Hong_Kong
BEGIN:STANDARD
DTSTART:20071104T020000
TZOFFSETFROM:+0700
TZOFFSETTO:+0800
TZNAME:HKT
END:STANDARD
END:VTIMEZONE
BEGIN:VEVENT
DTSTAMP;TZID=Asia/Hong_Kong:20260420T084813
DTSTART;TZID=Asia/Hong_Kong:20240413T110000
DTEND;TZID=Asia/Hong_Kong:20240413T003000
LOCATION:LTL, Cheng Yu Tung Building, HKUST
SUMMARY:Cosmopolis Festival - Q&A With Ranjani-Gayatri
UID:925
END:VEVENT
END:VCALENDAR