BEGIN:VCALENDAR
PRODID:-//HKUST Drupal Platform//EN
VERSION:2.0
BEGIN:VTIMEZONE
TZID:Asia/Hong_Kong
BEGIN:STANDARD
DTSTART:20071104T020000
TZOFFSETFROM:+0700
TZOFFSETTO:+0800
TZNAME:HKT
END:STANDARD
END:VTIMEZONE
BEGIN:VEVENT
DTSTAMP;TZID=Asia/Hong_Kong:20260420T185643
DTSTART;TZID=Asia/Hong_Kong:20240318T143000
DTEND;TZID=Asia/Hong_Kong:20240318T160000
LOCATION:Room 3401, Academic Building, HKUST (hybrid via Zoom)
SUMMARY:CEFC Seminar - From the Reinvention of Love to Low Fertility in East Asia?
UID:934
END:VEVENT
END:VCALENDAR