BEGIN:VCALENDAR
PRODID:-//HKUST Drupal Platform//EN
VERSION:2.0
BEGIN:VTIMEZONE
TZID:Asia/Hong_Kong
BEGIN:STANDARD
DTSTART:20071104T020000
TZOFFSETFROM:+0700
TZOFFSETTO:+0800
TZNAME:HKT
END:STANDARD
END:VTIMEZONE
BEGIN:VEVENT
DTSTAMP;TZID=Asia/Hong_Kong:20260420T015033
DTSTART;TZID=Asia/Hong_Kong:20240408T160000
DTEND;TZID=Asia/Hong_Kong:20240408T180000
LOCATION:Room 3401 (Lift no. 2 / Lifts no. 17-18) Academic Building
SUMMARY:HUMA Seminar - Pragmatic Scientific Understanding: Different, Important, Fundamental
UID:939
END:VEVENT
END:VCALENDAR