BEGIN:VCALENDAR
PRODID:-//HKUST Drupal Platform//EN
VERSION:2.0
BEGIN:VTIMEZONE
TZID:Asia/Hong_Kong
BEGIN:STANDARD
DTSTART:20071104T020000
TZOFFSETFROM:+0700
TZOFFSETTO:+0800
TZNAME:HKT
END:STANDARD
END:VTIMEZONE
BEGIN:VEVENT
DTSTAMP;TZID=Asia/Hong_Kong:20260420T163746
DTSTART;TZID=Asia/Hong_Kong:20240415T160000
DTEND;TZID=Asia/Hong_Kong:20240415T180000
LOCATION:3401室 (2號/ 17-18號電梯)
SUMMARY:GCC Lecture -現代中國留美學人歷史研究 & 第三次留美回國浪潮
UID:945
END:VEVENT
END:VCALENDAR