BEGIN:VCALENDAR
PRODID:-//HKUST Drupal Platform//EN
VERSION:2.0
BEGIN:VTIMEZONE
TZID:Asia/Hong_Kong
BEGIN:STANDARD
DTSTART:20071104T020000
TZOFFSETFROM:+0700
TZOFFSETTO:+0800
TZNAME:HKT
END:STANDARD
END:VTIMEZONE
BEGIN:VEVENT
DTSTAMP;TZID=Asia/Hong_Kong:20260420T185643
DTSTART;TZID=Asia/Hong_Kong:20240503T163000
DTEND;TZID=Asia/Hong_Kong:20240503T180000
LOCATION:張安德講堂 (LT-E)
SUMMARY:GCC Lecture - 西伯利亞的紅巫女 Red Witches in Siberia
UID:947
END:VEVENT
END:VCALENDAR