BEGIN:VCALENDAR
PRODID:-//HKUST Drupal Platform//EN
VERSION:2.0
BEGIN:VTIMEZONE
TZID:Asia/Hong_Kong
BEGIN:STANDARD
DTSTART:20071104T020000
TZOFFSETFROM:+0700
TZOFFSETTO:+0800
TZNAME:HKT
END:STANDARD
END:VTIMEZONE
BEGIN:VEVENT
DTSTAMP;TZID=Asia/Hong_Kong:20260422T022446
DTSTART;TZID=Asia/Hong_Kong:20240502T143000
DTEND;TZID=Asia/Hong_Kong:20240502T160000
LOCATION:Room 3401 (Lift no. 2 / 17-18)
SUMMARY:HUMA Seminar - Toleration or Respect?: The Zhuangizan Attitude toward Different Ways of Life
UID:955
END:VEVENT
END:VCALENDAR