BEGIN:VCALENDAR
PRODID:-//HKUST Drupal Platform//EN
VERSION:2.0
BEGIN:VTIMEZONE
TZID:Asia/Hong_Kong
BEGIN:STANDARD
DTSTART:20071104T020000
TZOFFSETFROM:+0700
TZOFFSETTO:+0800
TZNAME:HKT
END:STANDARD
END:VTIMEZONE
BEGIN:VEVENT
DTSTAMP;TZID=Asia/Hong_Kong:20260420T015033
DTSTART;TZID=Asia/Hong_Kong:20240510T120000
DTEND;TZID=Asia/Hong_Kong:20240510T133000
LOCATION:Room 3401 (Lift 2 or Lifts 17-18), 3/F Academic Building OR Online via ZOOM
SUMMARY:SOSC Seminar - Value Compass: From Specific Risks to Basic Values of Large Language Models
UID:958
END:VEVENT
END:VCALENDAR