BEGIN:VCALENDAR
PRODID:-//HKUST Drupal Platform//EN
VERSION:2.0
BEGIN:VTIMEZONE
TZID:Asia/Hong_Kong
BEGIN:STANDARD
DTSTART:20071104T020000
TZOFFSETFROM:+0700
TZOFFSETTO:+0800
TZNAME:HKT
END:STANDARD
END:VTIMEZONE
BEGIN:VEVENT
DTSTAMP;TZID=Asia/Hong_Kong:20260419T223103
DTSTART;TZID=Asia/Hong_Kong:20240510T120000
DTEND;TZID=Asia/Hong_Kong:20240510T133000
LOCATION:Online via Zoom
SUMMARY:Joint ECON & SOSC Webinar - Evaluating Urban Planning: Evidence from Dar es Salaam
UID:959
END:VEVENT
END:VCALENDAR