BEGIN:VCALENDAR
PRODID:-//HKUST Drupal Platform//EN
VERSION:2.0
BEGIN:VTIMEZONE
TZID:Asia/Hong_Kong
BEGIN:STANDARD
DTSTART:20071104T020000
TZOFFSETFROM:+0700
TZOFFSETTO:+0800
TZNAME:HKT
END:STANDARD
END:VTIMEZONE
BEGIN:VEVENT
DTSTAMP;TZID=Asia/Hong_Kong:20260420T153738
DTSTART;TZID=Asia/Hong_Kong:20240531T140000
DTEND;TZID=Asia/Hong_Kong:20240531T170000
LOCATION:Room 3401 (Lifts 17-18), 3/F Academic Building
SUMMARY:HUMA Thesis Presentation - Confluence of Law and Medicine in Qing-Dynasty Baogu: as Sociolegal Practice, as Knowledge Production, and as Moral Discourse
UID:962
END:VEVENT
END:VCALENDAR