BEGIN:VCALENDAR
PRODID:-//HKUST Drupal Platform//EN
VERSION:2.0
BEGIN:VTIMEZONE
TZID:Asia/Hong_Kong
BEGIN:STANDARD
DTSTART:20071104T020000
TZOFFSETFROM:+0700
TZOFFSETTO:+0800
TZNAME:HKT
END:STANDARD
END:VTIMEZONE
BEGIN:VEVENT
DTSTAMP;TZID=Asia/Hong_Kong:20260422T022446
DTSTART;TZID=Asia/Hong_Kong:20240527T143000
DTEND;TZID=Asia/Hong_Kong:20240527T153000
LOCATION:Room 3301 (Lift 2 or Lifts 17-18), 3/F Academic Building
SUMMARY:SOSC Seminar - Of Jobs and Men: An AI-assisted Approach for Studying Skill Mismatch in Hong Kong
UID:964
END:VEVENT
END:VCALENDAR