BEGIN:VCALENDAR
PRODID:-//HKUST Drupal Platform//EN
VERSION:2.0
BEGIN:VTIMEZONE
TZID:Asia/Hong_Kong
BEGIN:STANDARD
DTSTART:20071104T020000
TZOFFSETFROM:+0700
TZOFFSETTO:+0800
TZNAME:HKT
END:STANDARD
END:VTIMEZONE
BEGIN:VEVENT
DTSTAMP;TZID=Asia/Hong_Kong:20260421T032449
DTSTART;TZID=Asia/Hong_Kong:20240617T150000
DTEND;TZID=Asia/Hong_Kong:20240617T173000
LOCATION:Room 3301 (Lift 2 or Lifts 17-18), 3/F Academic Building
SUMMARY:SOSC Seminar - Intrahousehold Property Ownership and Family Members\' Outcomes: Evidence from the 2011 Judicial Interpretation of the Chinese Marriage Law
UID:975
END:VEVENT
END:VCALENDAR