BEGIN:VCALENDAR
PRODID:-//HKUST Drupal Platform//EN
VERSION:2.0
BEGIN:VTIMEZONE
TZID:Asia/Hong_Kong
BEGIN:STANDARD
DTSTART:20071104T020000
TZOFFSETFROM:+0700
TZOFFSETTO:+0800
TZNAME:HKT
END:STANDARD
END:VTIMEZONE
BEGIN:VEVENT
DTSTAMP;TZID=Asia/Hong_Kong:20260420T044611
DTSTART;TZID=Asia/Hong_Kong:20240807T140000
DTEND;TZID=Asia/Hong_Kong:20240807T170000
LOCATION:Room 3401 (Lifts 2, 17-18), 3/F Academic Building, HKUST
SUMMARY:HUMA Thesis Presentation - Digital Communication Practices and Translocal Belonging Among Hong Kong Based Mainland Female Vloggers
UID:986
END:VEVENT
END:VCALENDAR