BEGIN:VCALENDAR
PRODID:-//HKUST Drupal Platform//EN
VERSION:2.0
BEGIN:VTIMEZONE
TZID:Asia/Hong_Kong
BEGIN:STANDARD
DTSTART:20071104T020000
TZOFFSETFROM:+0700
TZOFFSETTO:+0800
TZNAME:HKT
END:STANDARD
END:VTIMEZONE
BEGIN:VEVENT
DTSTAMP;TZID=Asia/Hong_Kong:20260420T173932
DTSTART;TZID=Asia/Hong_Kong:20240807T090000
DTEND;TZID=Asia/Hong_Kong:19700101T080000
LOCATION:Room 3301 (Lift 17-18), 3/F, Academic Building, HKUST
SUMMARY:SOSC Thesis Presentation - Online Judicial Auction and Business Activities: The Case of China
UID:989
END:VEVENT
END:VCALENDAR